BEGIN:VCALENDAR
VERSION:2.0
PRODID:spatie/icalendar-generator
NAME:38. Österreichischer Frauenlauf
X-WR-CALNAME:38. Österreichischer Frauenlauf
BEGIN:VEVENT
UID:69ecebf5ac508
DTSTAMP:20260425T162941Z
SUMMARY:38. Österreichischer Frauenlauf - Termin 1
DESCRIPTION:Am 31. Mai 2026 verwandelt sich der Wiener Prater wieder in ein
 en Ort voller Energie\, Emotion und Gemeinschaft: Rund 30.000 Frauen und M
 ädchen stehen beim 38. ASICS Österreichischen Frauenlauf an der Startlin
 ie – und machen das Event zu einem der größten Frauenläufe weltweit.&
 quot\;Here for more&quot\; ist das Motto 2026. Es steht für den Wunsch\, 
 weiterzugehen – für neue Ziele\, für Zusammenhalt\, für den Mut\, den
  ersten Schritt zu machen oder über sich hinauszuwachsen. Jede Teilnehmer
 in bringt ihre eigene Geschichte mit an die Startlinie – und genau das m
 acht diesen Tag so besonders.WOMAN ist Medienpartnerin und verlost unter a
 llen Leserinnen 1 von 25 Startplätzen für den ASICS Österreichischen Fr
 auenlauf 2026.Wählen Sie Ihre Distanz: 5 km oder 10 km Laufen oder 5 km N
 ordic Walking.Jetzt mitmachen und Ihr persönliches „More“ entdecken.
LOCATION:Prater\, 1020\, Wien\, Österreich
URL:
DTSTART:20260531T000000Z
DTEND:20260531T235959Z
END:VEVENT
END:VCALENDAR